BEGIN:VCALENDAR
VERSION:2.0
PRODID:-//Rhonda Denney - ECPv6.15.18//NONSGML v1.0//EN
CALSCALE:GREGORIAN
METHOD:PUBLISH
X-WR-CALNAME:Rhonda Denney
X-ORIGINAL-URL:https://rhondadenney.com
X-WR-CALDESC:Events for Rhonda Denney
REFRESH-INTERVAL;VALUE=DURATION:PT1H
X-Robots-Tag:noindex
X-PUBLISHED-TTL:PT1H
BEGIN:VTIMEZONE
TZID:America/Denver
BEGIN:DAYLIGHT
TZOFFSETFROM:-0700
TZOFFSETTO:-0600
TZNAME:MDT
DTSTART:20250309T090000
END:DAYLIGHT
BEGIN:STANDARD
TZOFFSETFROM:-0600
TZOFFSETTO:-0700
TZNAME:MST
DTSTART:20251102T080000
END:STANDARD
BEGIN:DAYLIGHT
TZOFFSETFROM:-0700
TZOFFSETTO:-0600
TZNAME:MDT
DTSTART:20260308T090000
END:DAYLIGHT
BEGIN:STANDARD
TZOFFSETFROM:-0600
TZOFFSETTO:-0700
TZNAME:MST
DTSTART:20261101T080000
END:STANDARD
BEGIN:DAYLIGHT
TZOFFSETFROM:-0700
TZOFFSETTO:-0600
TZNAME:MDT
DTSTART:20270314T090000
END:DAYLIGHT
BEGIN:STANDARD
TZOFFSETFROM:-0600
TZOFFSETTO:-0700
TZNAME:MST
DTSTART:20271107T080000
END:STANDARD
END:VTIMEZONE
BEGIN:VEVENT
DTSTART;TZID=America/Denver:20260320T100000
DTEND;TZID=America/Denver:20260320T170000
DTSTAMP:20260425T191256
CREATED:20260406T042057Z
LAST-MODIFIED:20260406T042057Z
UID:60726-1774000800-1774026000@rhondadenney.com
SUMMARY:Meet the Maker event at the Flint Hills Discovery Center in Manhattan\, KS
DESCRIPTION:Don't Forget to Share:
URL:https://rhondadenney.com/event/meet-the-maker-event-at-the-flint-hills-discovery-center-in-manhattan-ks/
LOCATION:Flint Hills Discovery Center in Manhattan\, KS\, 315 S 3rd Street\, Manhattan\, KS\, 66502\, United States
END:VEVENT
END:VCALENDAR