BEGIN:VCALENDAR
VERSION:2.0
PRODID:-//Rhonda Denney - ECPv6.15.18//NONSGML v1.0//EN
CALSCALE:GREGORIAN
METHOD:PUBLISH
X-WR-CALNAME:Rhonda Denney
X-ORIGINAL-URL:https://rhondadenney.com
X-WR-CALDESC:Events for Rhonda Denney
REFRESH-INTERVAL;VALUE=DURATION:PT1H
X-Robots-Tag:noindex
X-PUBLISHED-TTL:PT1H
BEGIN:VTIMEZONE
TZID:America/Denver
BEGIN:DAYLIGHT
TZOFFSETFROM:-0700
TZOFFSETTO:-0600
TZNAME:MDT
DTSTART:20250309T090000
END:DAYLIGHT
BEGIN:STANDARD
TZOFFSETFROM:-0600
TZOFFSETTO:-0700
TZNAME:MST
DTSTART:20251102T080000
END:STANDARD
BEGIN:DAYLIGHT
TZOFFSETFROM:-0700
TZOFFSETTO:-0600
TZNAME:MDT
DTSTART:20260308T090000
END:DAYLIGHT
BEGIN:STANDARD
TZOFFSETFROM:-0600
TZOFFSETTO:-0700
TZNAME:MST
DTSTART:20261101T080000
END:STANDARD
BEGIN:DAYLIGHT
TZOFFSETFROM:-0700
TZOFFSETTO:-0600
TZNAME:MDT
DTSTART:20270314T090000
END:DAYLIGHT
BEGIN:STANDARD
TZOFFSETFROM:-0600
TZOFFSETTO:-0700
TZNAME:MST
DTSTART:20271107T080000
END:STANDARD
END:VTIMEZONE
BEGIN:VEVENT
DTSTART;TZID=America/Denver:20260117T100000
DTEND;TZID=America/Denver:20260117T160000
DTSTAMP:20260425T205216
CREATED:20251229T101154Z
LAST-MODIFIED:20251229T101310Z
UID:60535-1768644000-1768665600@rhondadenney.com
SUMMARY:Stitching for Dimension
DESCRIPTION:Jump into free-motion stitching! Whether you are a beginner at free-motion stitching or have done it for a while\, you learn how to use your sewing machine to add dimension to your quilts! \nAdding stitching to your fabric piece not only binds your quilt sandwich together\, but it can add to your design. Whether you are creating a traditional quilt and want to add interest\, or you have an art quilt and you want to add dimension to your design\, stitches are one way of accomplishing that. The possibilities are endless. Once you overcome the fear of free-motion and realize that your sewing machine is another tool to create\, you’ll find that free-motion stitching can be a lot of fun! \nThis workshop is appropriate for anyone who wants to learn free-motion\, but you need to be familiar with your sewing machine and its free-motion capabilities. There is no time to help someone trouble-shoot sewing machine issues in this workshop. \n\nSession Fee: $45\nPattern Fee: $20 per pattern + $5 for shipping\n\nDon't Forget to Share:
URL:https://rhondadenney.com/event/stitching-for-dimension/
LOCATION:Zoom
ATTACH;FMTTYPE=image/png:https://rhondadenney.com/wp-content/uploads/2025/05/Intro-to-Stitching-for-Dimension.png
END:VEVENT
BEGIN:VEVENT
DTSTART;TZID=America/Denver:20260124T100000
DTEND;TZID=America/Denver:20260124T160000
DTSTAMP:20260425T205216
CREATED:20251229T111306Z
LAST-MODIFIED:20260329T073604Z
UID:60545-1769248800-1769270400@rhondadenney.com
SUMMARY:Intro to Pigment Patchwork
DESCRIPTION:Pigment Patchwork is Rhonda’s technique for creating unique fiber art with the use of both pigment\, fabric\, and stitching. \nIn this workshop\, you will learn her Pigment Patchwork technique\, with a small (8” x 10”) project to experiment with pigments on fabric. Choose between four unique patterns: Wild Rose\, Koi Fish\, Rabbit or Deer Portrait. \nRegistered participants will receive an email  about four weeks before the workshop with all the necessary details\, including the purchased Pattern  and Supply List . This way\, you’ll have plenty of time to get ready! 😊 \n\nSession Fee: $45\nPattern Fee: $14 (Tax Included)\n\nClick here to Join! \nDon't Forget to Share:
URL:https://rhondadenney.com/event/intro-to-pigment-patchwork/
LOCATION:Zoom
ATTACH;FMTTYPE=image/png:https://rhondadenney.com/wp-content/uploads/2025/03/Intro-to-stitiching.png
END:VEVENT
END:VCALENDAR